{"text_format":"3","workbook":"xlsx","n_sheets":2,"sheets":["Sheet1","Sheet2"],"not_rendered":{"defined_names":1,"comments":1},"read":"whole","date_system":"1900"}

{"sheet":"Sheet1","index":0,"n_rows":234,"n_cols":6,"rows_kept":234,"merged":[[0,0,0,5]]}
["城市建设学院2025-2026学年度国家助学金学生名单"]
["姓名","学院","专业","身份证件类型","身份证件号","贫困等级"]
["朱琪乐","城市建设学院","工程管理","居民身份证",{"$f":"LEFT(Sheet2!A2,3)&\"************\"&RIGHT(Sheet2!A2,3)","v":"341************114"},"特别困难"]
["孙奥运","城市建设学院","工程管理","居民身份证",{"$f":"LEFT(Sheet2!A3,3)&\"************\"&RIGHT(Sheet2!A3,3)","v":"341************51X"},"特别困难"]
["赵慧慧","城市建设学院","工程管理","居民身份证",{"$f":"LEFT(Sheet2!A4,3)&\"************\"&RIGHT(Sheet2!A4,3)","v":"341************552"},"特别困难"]
["程新敏","城市建设学院","工程管理","居民身份证",{"$f":"LEFT(Sheet2!A5,3)&\"************\"&RIGHT(Sheet2!A5,3)","v":"411************025"},"困难"]
["徐娟","城市建设学院","工程管理","居民身份证",{"$f":"LEFT(Sheet2!A6,3)&\"************\"&RIGHT(Sheet2!A6,3)","v":"341************42X"},"一般困难"]
["陈思雨","城市建设学院","工程管理","居民身份证",{"$f":"LEFT(Sheet2!A7,3)&\"************\"&RIGHT(Sheet2!A7,3)","v":"341************367"},"一般困难"]
["马婉婉","城市建设学院","工程管理","居民身份证",{"$f":"LEFT(Sheet2!A8,3)&\"************\"&RIGHT(Sheet2!A8,3)","v":"341************825"},"一般困难"]
["张庆喜","城市建设学院","工程管理","居民身份证",{"$f":"LEFT(Sheet2!A9,3)&\"************\"&RIGHT(Sheet2!A9,3)","v":"341************630"},"特别困难"]
["蔺永国","城市建设学院","工程管理","居民身份证",{"$f":"LEFT(Sheet2!A10,3)&\"************\"&RIGHT(Sheet2!A10,3)","v":"341************036"},"特别困难"]
["夏欣","城市建设学院","工程管理","居民身份证",{"$f":"LEFT(Sheet2!A11,3)&\"************\"&RIGHT(Sheet2!A11,3)","v":"340************620"},"特别困难"]
["赵雨彤","城市建设学院","工程管理","居民身份证",{"$f":"LEFT(Sheet2!A12,3)&\"************\"&RIGHT(Sheet2!A12,3)","v":"341************724"},"困难"]
["穆梦","城市建设学院","工程管理","居民身份证",{"$f":"LEFT(Sheet2!A13,3)&\"************\"&RIGHT(Sheet2!A13,3)","v":"341************56X"},"困难"]
["汪娜","城市建设学院","工程管理","居民身份证",{"$f":"LEFT(Sheet2!A14,3)&\"************\"&RIGHT(Sheet2!A14,3)","v":"341************109"},"一般困难"]
["尹俊豪","城市建设学院","工程管理","居民身份证",{"$f":"LEFT(Sheet2!A15,3)&\"************\"&RIGHT(Sheet2!A15,3)","v":"341************815"},"一般困难"]
["陆文静","城市建设学院","工程管理","居民身份证",{"$f":"LEFT(Sheet2!A16,3)&\"************\"&RIGHT(Sheet2!A16,3)","v":"340************026"},"一般困难"]
["田真","城市建设学院","土木工程","居民身份证",{"$f":"LEFT(Sheet2!A17,3)&\"************\"&RIGHT(Sheet2!A17,3)","v":"341************502"},"特别困难"]
["王雯佩","城市建设学院","土木工程","居民身份证",{"$f":"LEFT(Sheet2!A18,3)&\"************\"&RIGHT(Sheet2!A18,3)","v":"341************468"},"特别困难"]
["王宇杰","城市建设学院","土木工程","居民身份证",{"$f":"LEFT(Sheet2!A19,3)&\"************\"&RIGHT(Sheet2!A19,3)","v":"341************616"},"特别困难"]
["郑龙军","城市建设学院","土木工程","居民身份证",{"$f":"LEFT(Sheet2!A20,3)&\"************\"&RIGHT(Sheet2!A20,3)","v":"341************233"},"特别困难"]
["王雪峰","城市建设学院","土木工程","居民身份证",{"$f":"LEFT(Sheet2!A21,3)&\"************\"&RIGHT(Sheet2!A21,3)","v":"341************911"},"特别困难"]
["徐小龙","城市建设学院","土木工程","居民身份证",{"$f":"LEFT(Sheet2!A22,3)&\"************\"&RIGHT(Sheet2!A22,3)","v":"341************752"},"困难"]
["张宇恒","城市建设学院","土木工程","居民身份证",{"$f":"LEFT(Sheet2!A23,3)&\"************\"&RIGHT(Sheet2!A23,3)","v":"341************514"},"一般困难"]
["沈佳蔚","城市建设学院","土木工程","居民身份证",{"$f":"LEFT(Sheet2!A24,3)&\"************\"&RIGHT(Sheet2!A24,3)","v":"341************442"},"一般困难"]
["戚明嘉","城市建设学院","土木工程","居民身份证",{"$f":"LEFT(Sheet2!A25,3)&\"************\"&RIGHT(Sheet2!A25,3)","v":"341************132"},"一般困难"]
["王瑾","城市建设学院","风景园林","居民身份证",{"$f":"LEFT(Sheet2!A26,3)&\"************\"&RIGHT(Sheet2!A26,3)","v":"341************627"},"特别困难"]
["张东坡","城市建设学院","风景园林","居民身份证",{"$f":"LEFT(Sheet2!A27,3)&\"************\"&RIGHT(Sheet2!A27,3)","v":"341************137"},"特别困难"]
["赵胜楠","城市建设学院","风景园林","居民身份证",{"$f":"LEFT(Sheet2!A28,3)&\"************\"&RIGHT(Sheet2!A28,3)","v":"341************265"},"特别困难"]
["陈晓露","城市建设学院","风景园林","居民身份证",{"$f":"LEFT(Sheet2!A29,3)&\"************\"&RIGHT(Sheet2!A29,3)","v":"320************025"},"特别困难"]
["张含琳","城市建设学院","风景园林","居民生份证",{"$f":"LEFT(Sheet2!A30,3)&\"************\"&RIGHT(Sheet2!A30,3)","v":"341************262"},"特别困难"]
["郝阳旭","城市建设学院","风景园林","居民身份证",{"$f":"LEFT(Sheet2!A31,3)&\"************\"&RIGHT(Sheet2!A31,3)","v":"340************745"},"特别困难"]
["班秋敏","城市建设学院","风景园林","居民身份证",{"$f":"LEFT(Sheet2!A32,3)&\"************\"&RIGHT(Sheet2!A32,3)","v":"411************200"},"特别困难"]
["黄锦锦","城市建设学院","风景园林","居民身份证",{"$f":"LEFT(Sheet2!A33,3)&\"************\"&RIGHT(Sheet2!A33,3)","v":"340************829"},"困难"]
["孔家一","城市建设学院","风景园林","居民身份证",{"$f":"LEFT(Sheet2!A34,3)&\"************\"&RIGHT(Sheet2!A34,3)","v":"341************023"},"一般困难"]
["程默","城市建设学院","土木工程","居民身份证",{"$f":"LEFT(Sheet2!A35,3)&\"************\"&RIGHT(Sheet2!A35,3)","v":"340************428"},"特别困难"]
["吴俊杰","城市建设学院","土木工程","居民身份证",{"$f":"LEFT(Sheet2!A36,3)&\"************\"&RIGHT(Sheet2!A36,3)","v":"342************511"},"特别困难"]
["李政","城市建设学院","土木工程","居民身份证",{"$f":"LEFT(Sheet2!A37,3)&\"************\"&RIGHT(Sheet2!A37,3)","v":"341************59X"},"困难"]
["张宛茹","城市建设学院","土木工程","居民身份证",{"$f":"LEFT(Sheet2!A38,3)&\"************\"&RIGHT(Sheet2!A38,3)","v":"341************740"},"一般困难"]
["罗树仁","城市建设学院","土木工程","居民身份证",{"$f":"LEFT(Sheet2!A39,3)&\"************\"&RIGHT(Sheet2!A39,3)","v":"410************172"},"一般困难"]
["郑智超","城市建设学院","土木工程","居民身份证",{"$f":"LEFT(Sheet2!A40,3)&\"************\"&RIGHT(Sheet2!A40,3)","v":"340************614"},"一般困难"]
["谈静","城市建设学院","工程造价","居民身份证",{"$f":"LEFT(Sheet2!A41,3)&\"************\"&RIGHT(Sheet2!A41,3)","v":"342************801"},"特别困难"]
["陈俊成","城市建设学院","工程造价","居民身份证",{"$f":"LEFT(Sheet2!A42,3)&\"************\"&RIGHT(Sheet2!A42,3)","v":"341************517"},"特别困难"]
["贾先锋","城市建设学院","工程造价","居民身份证",{"$f":"LEFT(Sheet2!A43,3)&\"************\"&RIGHT(Sheet2!A43,3)","v":"341************17X"},"特别困难"]
["杨娴","城市建设学院","工程造价","居民身份证",{"$f":"LEFT(Sheet2!A44,3)&\"************\"&RIGHT(Sheet2!A44,3)","v":"340************000"},"困难"]
["李彤","城市建设学院","工程造价","居民身份证",{"$f":"LEFT(Sheet2!A45,3)&\"************\"&RIGHT(Sheet2!A45,3)","v":"340************945"},"一般困难"]
["季雨洁","城市建设学院","工程造价","居民身份证",{"$f":"LEFT(Sheet2!A46,3)&\"************\"&RIGHT(Sheet2!A46,3)","v":"340************30X"},"一般困难"]
["魏肖肖","城市建设学院","工程造价","居民身份证",{"$f":"LEFT(Sheet2!A47,3)&\"************\"&RIGHT(Sheet2!A47,3)","v":"341************641"},"一般困难"]
["陶小月","城市建设学院","工程造价","居民身份证",{"$f":"LEFT(Sheet2!A48,3)&\"************\"&RIGHT(Sheet2!A48,3)","v":"341************344"},"特别困难"]
["余立双","城市建设学院","工程造价","居民身份证",{"$f":"LEFT(Sheet2!A49,3)&\"************\"&RIGHT(Sheet2!A49,3)","v":"341************382"},"特别困难"]
["王举道","城市建设学院","工程造价","居民身份证",{"$f":"LEFT(Sheet2!A50,3)&\"************\"&RIGHT(Sheet2!A50,3)","v":"341************175"},"特别困难"]
["张雯静","城市建设学院","工程造价","居民身份证",{"$f":"LEFT(Sheet2!A51,3)&\"************\"&RIGHT(Sheet2!A51,3)","v":"340************520"},"困难"]
["谢梦晴","城市建设学院","工程造价","居民身份证",{"$f":"LEFT(Sheet2!A52,3)&\"************\"&RIGHT(Sheet2!A52,3)","v":"340************327"},"一般困难"]
["余蕊","城市建设学院","工程造价","居民身份证",{"$f":"LEFT(Sheet2!A53,3)&\"************\"&RIGHT(Sheet2!A53,3)","v":"341************105"},"一般困难"]
["宋文静","城市建设学院","工程造价","居民身份证",{"$f":"LEFT(Sheet2!A54,3)&\"************\"&RIGHT(Sheet2!A54,3)","v":"340************644"},"一般困难"]
["杨萍","城市建设学院","风景园林（专升本）","居民身份证",{"$f":"LEFT(Sheet2!A55,3)&\"************\"&RIGHT(Sheet2!A55,3)","v":"342************029"},"特别困难"]
["杨灿灿","城市建设学院","风景园林（专升本）","居民身份证",{"$f":"LEFT(Sheet2!A56,3)&\"************\"&RIGHT(Sheet2!A56,3)","v":"340************329"},"特别困难"]
["左淑文","城市建设学院","风景园林（专升本）","居民身份证",{"$f":"LEFT(Sheet2!A57,3)&\"************\"&RIGHT(Sheet2!A57,3)","v":"341************520"},"特别困难"]
["许顺青","城市建设学院","风景园林（专升本）","居民身份证",{"$f":"LEFT(Sheet2!A58,3)&\"************\"&RIGHT(Sheet2!A58,3)","v":"341************223"},"困难"]
["吴思雨"," 城市建设学院","风景园林（专升本）","居民身份证",{"$f":"LEFT(Sheet2!A59,3)&\"************\"&RIGHT(Sheet2!A59,3)","v":"341************922"},"困难"]
["马宇轩","城市建设学院","风景园林（专升本）","居民身份证",{"$f":"LEFT(Sheet2!A60,3)&\"************\"&RIGHT(Sheet2!A60,3)","v":"341************021"},"一般困难"]
["孙伊阳","城市建设学院","风景园林（专升本）","居民身份证",{"$f":"LEFT(Sheet2!A61,3)&\"************\"&RIGHT(Sheet2!A61,3)","v":"220************428"},"一般困难"]
["许前峰","城市建设学院","风景园林（专升本）","居民身份证",{"$f":"LEFT(Sheet2!A62,3)&\"************\"&RIGHT(Sheet2!A62,3)","v":"340************216"},"一般困难"]
["郭树文","城市建设学院","风景园林（专升本）","居民身份证",{"$f":"LEFT(Sheet2!A63,3)&\"************\"&RIGHT(Sheet2!A63,3)","v":"340************61X"},"一般困难"]
["张文婷","城市建设学院","风景园林","居民身份证",{"$f":"LEFT(Sheet2!A64,3)&\"************\"&RIGHT(Sheet2!A64,3)","v":"341************123"},"特别困难"]
["许鹏飞","城市建设学院","风景园林","居民身份证",{"$f":"LEFT(Sheet2!A65,3)&\"************\"&RIGHT(Sheet2!A65,3)","v":"341************310"},"特别困难"]
["徐思雨","城市建设学院","风景园林","居民身份证",{"$f":"LEFT(Sheet2!A66,3)&\"************\"&RIGHT(Sheet2!A66,3)","v":"340************220"},"困难"]
["吴成尧","城市建设学院","风景园林","居民身份证",{"$f":"LEFT(Sheet2!A67,3)&\"************\"&RIGHT(Sheet2!A67,3)","v":"341************517"},"困难"]
["侯伟豪","城市建设学院","风景园林","居民身份证",{"$f":"LEFT(Sheet2!A68,3)&\"************\"&RIGHT(Sheet2!A68,3)","v":"341************439"},"一般困难"]
["鞠其诺","城市建设学院","风景园林","居民身份证",{"$f":"LEFT(Sheet2!A69,3)&\"************\"&RIGHT(Sheet2!A69,3)","v":"341************822"},"一般困难"]
["汪磊","城市建设学院","工程造价","居民身份证",{"$f":"LEFT(Sheet2!A70,3)&\"************\"&RIGHT(Sheet2!A70,3)","v":"342************813"},"特别困难"]
["汪青兰","城市建设学院","工程造价","居民身份证",{"$f":"LEFT(Sheet2!A71,3)&\"************\"&RIGHT(Sheet2!A71,3)","v":"341************222"},"特别困难"]
["梁晶","城市建设学院","工程造价","居民身份证",{"$f":"LEFT(Sheet2!A72,3)&\"************\"&RIGHT(Sheet2!A72,3)","v":"341************129"},"特别困难"]
["谷登雨","城市建设学院","工程造价","居民身份证",{"$f":"LEFT(Sheet2!A73,3)&\"************\"&RIGHT(Sheet2!A73,3)","v":"340************847"},"困难"]
["谢紫云","城市建设学院","工程造价","居民身份证",{"$f":"LEFT(Sheet2!A74,3)&\"************\"&RIGHT(Sheet2!A74,3)","v":"340************241"},"困难"]
["刘畅","城市建设学院","工程造价","居民身份证",{"$f":"LEFT(Sheet2!A75,3)&\"************\"&RIGHT(Sheet2!A75,3)","v":"341************962"},"一般困难"]
["邵雨娜","城市建设学院","工程造价","居民身份证",{"$f":"LEFT(Sheet2!A76,3)&\"************\"&RIGHT(Sheet2!A76,3)","v":"341************52X"},"一般困难"]
["丁康","城市建设学院","土木工程","居民身份证",{"$f":"LEFT(Sheet2!A77,3)&\"************\"&RIGHT(Sheet2!A77,3)","v":"341************215"},"特别困难"]
["唐敏杰","城市建设学院","土木工程","居民身份证",{"$f":"LEFT(Sheet2!A78,3)&\"************\"&RIGHT(Sheet2!A78,3)","v":"411************938"},"困难"]
["石兴桃","城市建设学院","土木工程","居民身份证",{"$f":"LEFT(Sheet2!A79,3)&\"************\"&RIGHT(Sheet2!A79,3)","v":"341************412"},"一般困难"]
["邹洋","城市建设学院","土木工程","居民身份证",{"$f":"LEFT(Sheet2!A80,3)&\"************\"&RIGHT(Sheet2!A80,3)","v":"341************817"},"一般困难"]
["朱少明","城市建设学院","土木工程（对口）","居民身份证",{"$f":"LEFT(Sheet2!A81,3)&\"************\"&RIGHT(Sheet2!A81,3)","v":"341************833"},"特别困难"]
["陈凯旋","城市建设学院","土木工程（对口）","居民身份证",{"$f":"LEFT(Sheet2!A82,3)&\"************\"&RIGHT(Sheet2!A82,3)","v":"341************21X"},"特别困难"]
["杨而豪","城市建设学院","土木工程（对口）","居民身份证",{"$f":"LEFT(Sheet2!A83,3)&\"************\"&RIGHT(Sheet2!A83,3)","v":"341************47X"},"特别困难"]
["胡涛","城市建设学院","土木工程（对口）","居民身份证",{"$f":"LEFT(Sheet2!A84,3)&\"************\"&RIGHT(Sheet2!A84,3)","v":"341************814"},"特别困难"]
["李康","城市建设学院","土木工程（对口）","居民身份证",{"$f":"LEFT(Sheet2!A85,3)&\"************\"&RIGHT(Sheet2!A85,3)","v":"341************715"},"困难"]
["陈苍劲","城市建设学院","土木工程（对口）","居民身份证",{"$f":"LEFT(Sheet2!A86,3)&\"************\"&RIGHT(Sheet2!A86,3)","v":"341************535"},"困难"]
["李文静","城市建设学院","土木工程（对口）","居民身份证",{"$f":"LEFT(Sheet2!A87,3)&\"************\"&RIGHT(Sheet2!A87,3)","v":"341************071"},"一般困难"]
["程志强","城市建设学院","土木工程（对口）","居民身份证",{"$f":"LEFT(Sheet2!A88,3)&\"************\"&RIGHT(Sheet2!A88,3)","v":"341************934"},"一般困难"]
["孙加强","城市建设学院","土木工程（对口）","居民身份证",{"$f":"LEFT(Sheet2!A89,3)&\"************\"&RIGHT(Sheet2!A89,3)","v":"341************615"},"一般困难"]
["张鑫源","城市建设学院","土木工程（对口）","居民身份证",{"$f":"LEFT(Sheet2!A90,3)&\"************\"&RIGHT(Sheet2!A90,3)","v":"341************015"},"一般困难"]
["高子奇","城市建设学院","土木工程（对口）","居民身份证",{"$f":"LEFT(Sheet2!A91,3)&\"************\"&RIGHT(Sheet2!A91,3)","v":"341************253"},"特别困难"]
["赵德文","城市建设学院","土木工程（对口）","居民身份证",{"$f":"LEFT(Sheet2!A92,3)&\"************\"&RIGHT(Sheet2!A92,3)","v":"341************110"},"特别困难"]
["刘怀勇","城市建设学院","土木工程（对口）","居民身份证",{"$f":"LEFT(Sheet2!A93,3)&\"************\"&RIGHT(Sheet2!A93,3)","v":"341************815"},"特别困难"]
["邓欢乐","城市建设学院","土木工程（对口）","居民身份证",{"$f":"LEFT(Sheet2!A94,3)&\"************\"&RIGHT(Sheet2!A94,3)","v":"341************210"},"特别困难"]
["谢宇健","城市建设学院","土木工程（对口）","居民身份证",{"$f":"LEFT(Sheet2!A95,3)&\"************\"&RIGHT(Sheet2!A95,3)","v":"341************194"},"困难"]
["曹立坤","城市建设学院","土木工程（对口）","居民身份证",{"$f":"LEFT(Sheet2!A96,3)&\"************\"&RIGHT(Sheet2!A96,3)","v":"341************517"},"困难"]
["李名智","城市建设学院","土木工程（对口）","居民身份证",{"$f":"LEFT(Sheet2!A97,3)&\"************\"&RIGHT(Sheet2!A97,3)","v":"341************814"},"一般困难"]
["陈嘉豪","城市建设学院","土木工程（对口）","居民身份证",{"$f":"LEFT(Sheet2!A98,3)&\"************\"&RIGHT(Sheet2!A98,3)","v":"341************413"},"一般困难"]
["王园园","城市建设学院","土木工程（对口）","居民身份证",{"$f":"LEFT(Sheet2!A99,3)&\"************\"&RIGHT(Sheet2!A99,3)","v":"341************029"},"一般困难"]
["钱针","城市建设学院","土木工程（对口）","居民身份证",{"$f":"LEFT(Sheet2!A100,3)&\"************\"&RIGHT(Sheet2!A100,3)","v":"341************610"},"一般困难"]
["杨若楠","城市建设学院","工程造价","居民身份证",{"$f":"LEFT(Sheet2!A101,3)&\"************\"&RIGHT(Sheet2!A101,3)","v":"340************086"},"特别困难"]
["孙子祥","城市建设学院","工程造价","居民身份证",{"$f":"LEFT(Sheet2!A102,3)&\"************\"&RIGHT(Sheet2!A102,3)","v":"341************35X"},"困难"]
["涂晶晶","城市建设学院","工程造价","居民身份证",{"$f":"LEFT(Sheet2!A103,3)&\"************\"&RIGHT(Sheet2!A103,3)","v":"341************585"},"一般困难"]
["张浩然","城市建设学院","工程造价","居民身份证",{"$f":"LEFT(Sheet2!A104,3)&\"************\"&RIGHT(Sheet2!A104,3)","v":"340************832"},"一般困难"]
["张家杰","城市建设学院","风景园林","居民身份证",{"$f":"LEFT(Sheet2!A105,3)&\"************\"&RIGHT(Sheet2!A105,3)","v":"341************414"},"特别困难"]
["帅婕羽","城市建设学院","风景园林","居民身份证",{"$f":"LEFT(Sheet2!A106,3)&\"************\"&RIGHT(Sheet2!A106,3)","v":"341************789"},"特别困难"]
["胡灵纳","城市建设学院","风景园林","居民身份证",{"$f":"LEFT(Sheet2!A107,3)&\"************\"&RIGHT(Sheet2!A107,3)","v":"411************64X"},"特别困难"]
["耿雨婷","城市建设学院","风景园林","居民身份证",{"$f":"LEFT(Sheet2!A108,3)&\"************\"&RIGHT(Sheet2!A108,3)","v":"341************328"},"困难"]
["王奕琳","城市建设学院","风景园林","居民身份证",{"$f":"LEFT(Sheet2!A109,3)&\"************\"&RIGHT(Sheet2!A109,3)","v":"341************040"},"一般困难"]
["轩鹏","城市建设学院","工程管理","居民身份证",{"$f":"LEFT(Sheet2!A110,3)&\"************\"&RIGHT(Sheet2!A110,3)","v":"340************833"},"特别困难"]
["盛晨伟","城市建设学院","工程管理","居民身份证",{"$f":"LEFT(Sheet2!A111,3)&\"************\"&RIGHT(Sheet2!A111,3)","v":"341************419"},"困难"]
["胡静怡","城市建设学院","工程管理","居民身份证",{"$f":"LEFT(Sheet2!A112,3)&\"************\"&RIGHT(Sheet2!A112,3)","v":"341************96X"},"一般困难"]
["宣传政","城市建设学院","工程管理","居民身份证",{"$f":"LEFT(Sheet2!A113,3)&\"************\"&RIGHT(Sheet2!A113,3)","v":"341************410"},"一般困难"]
["洪晓珊","城市建设学院","工程管理（专升本）","居民身份证",{"$f":"LEFT(Sheet2!A114,3)&\"************\"&RIGHT(Sheet2!A114,3)","v":"341************720"},"特别困难"]
["符音","城市建设学院","工程管理（专升本）","居民身份证",{"$f":"LEFT(Sheet2!A115,3)&\"************\"&RIGHT(Sheet2!A115,3)","v":"411************083"},"特别困难"]
["陶媛媛","城市建设学院","工程管理（专升本）","居民身份证",{"$f":"LEFT(Sheet2!A116,3)&\"************\"&RIGHT(Sheet2!A116,3)","v":"340************167"},"特别困难"]
["周慧怡","城市建设学院","工程管理（专升本）","居民身份证",{"$f":"LEFT(Sheet2!A117,3)&\"************\"&RIGHT(Sheet2!A117,3)","v":"340************046"},"特别困难"]
["万乐乐","城市建设学院","工程管理（专升本）","居民身份证",{"$f":"LEFT(Sheet2!A118,3)&\"************\"&RIGHT(Sheet2!A118,3)","v":"340************227"},"困难"]
["陶钟凡","城市建设学院","工程管理（专升本）","居民身份证",{"$f":"LEFT(Sheet2!A119,3)&\"************\"&RIGHT(Sheet2!A119,3)","v":"340************621"},"困难"]
["张璐璐","城市建设学院","工程管理（专升本）","居民身份证",{"$f":"LEFT(Sheet2!A120,3)&\"************\"&RIGHT(Sheet2!A120,3)","v":"340************320"},"一般困难"]
["胡晶","城市建设学院","工程管理（专升本）","居民身份证",{"$f":"LEFT(Sheet2!A121,3)&\"************\"&RIGHT(Sheet2!A121,3)","v":"341************749"},"一般困难"]
["李嘉宁","城市建设学院","工程管理（专升本）","居民身份证",{"$f":"LEFT(Sheet2!A122,3)&\"************\"&RIGHT(Sheet2!A122,3)","v":"210************621"},"一般困难"]
["刘伟烨","城市建设学院","工程管理（专升本）","居民身份证",{"$f":"LEFT(Sheet2!A123,3)&\"************\"&RIGHT(Sheet2!A123,3)","v":"130************523"},"一般困难"]
["张璐璐","城市建设学院","工程管理（专升本）","居民身份证",{"$f":"LEFT(Sheet2!A124,3)&\"************\"&RIGHT(Sheet2!A124,3)","v":"341************322"},"一般困难"]
["张宇","城市建设学院","工程造价","居民身份证",{"$f":"LEFT(Sheet2!A125,3)&\"************\"&RIGHT(Sheet2!A125,3)","v":"341************018"},"特别困难"]
["陈西龙","城市建设学院","工程造价","居民身份证",{"$f":"LEFT(Sheet2!A126,3)&\"************\"&RIGHT(Sheet2!A126,3)","v":"341************412"},"特别困难"]
["陶翔宇","城市建设学院","工程造价","居民身份证",{"$f":"LEFT(Sheet2!A127,3)&\"************\"&RIGHT(Sheet2!A127,3)","v":"341************257"},"困难"]
["王丹妮","城市建设学院","工程造价","居民身份证",{"$f":"LEFT(Sheet2!A128,3)&\"************\"&RIGHT(Sheet2!A128,3)","v":"341************985"},"一般困难"]
["徐本祥","城市建设学院","工程造价","居民身份证",{"$f":"LEFT(Sheet2!A129,3)&\"************\"&RIGHT(Sheet2!A129,3)","v":"341************677"},"一般困难"]
["刘博","城市建设学院","工程造价","居民身份证",{"$f":"LEFT(Sheet2!A130,3)&\"************\"&RIGHT(Sheet2!A130,3)","v":"340************635"},"一般困难"]
["王月如","城市建设学院","工程管理","居民身份证",{"$f":"LEFT(Sheet2!A131,3)&\"************\"&RIGHT(Sheet2!A131,3)","v":"341************621"},"特别困难"]
["陈子浩","城市建设学院","工程管理","居民身份证",{"$f":"LEFT(Sheet2!A132,3)&\"************\"&RIGHT(Sheet2!A132,3)","v":"340************031"},"特别困难"]
["李琳","城市建设学院","工程管理","居民身份证",{"$f":"LEFT(Sheet2!A133,3)&\"************\"&RIGHT(Sheet2!A133,3)","v":"341************523"},"困难"]
["王梦远","城市建设学院","工程管理","居民身份证",{"$f":"LEFT(Sheet2!A134,3)&\"************\"&RIGHT(Sheet2!A134,3)","v":"340************461"},"一般困难"]
["吴嘉胜","城市建设学院","工程管理","居民身份证",{"$f":"LEFT(Sheet2!A135,3)&\"************\"&RIGHT(Sheet2!A135,3)","v":"342************416"},"一般困难"]
["王储珏","城市建设学院","工程管理","居民身份证",{"$f":"LEFT(Sheet2!A136,3)&\"************\"&RIGHT(Sheet2!A136,3)","v":"341************625"},"一般困难"]
["佘永芳","城市建设学院","工程管理（专升本）","居民身份证",{"$f":"LEFT(Sheet2!A137,3)&\"************\"&RIGHT(Sheet2!A137,3)","v":"342************144"},"特别困难"]
["赵雪浩","城市建设学院","工程管理（专升本）","居民身份证",{"$f":"LEFT(Sheet2!A138,3)&\"************\"&RIGHT(Sheet2!A138,3)","v":"341************03X"},"特别困难"]
["吕国豪","城市建设学院","工程管理（专升本）","居民身份证",{"$f":"LEFT(Sheet2!A139,3)&\"************\"&RIGHT(Sheet2!A139,3)","v":"341************174"},"特别困难"]
["程双","城市建设学院","工程管理（专升本）","居民身份证",{"$f":"LEFT(Sheet2!A140,3)&\"************\"&RIGHT(Sheet2!A140,3)","v":"340************520"},"特别困难"]
["李小换","城市建设学院","工程管理（专升本）","居民身份证",{"$f":"LEFT(Sheet2!A141,3)&\"************\"&RIGHT(Sheet2!A141,3)","v":"341************787"},"困难"]
["李祥","城市建设学院","工程管理（专升本）","居民身份证",{"$f":"LEFT(Sheet2!A142,3)&\"************\"&RIGHT(Sheet2!A142,3)","v":"340************617"},"困难"]
["李雨烔","城市建设学院","工程管理（专升本）","居民身份证",{"$f":"LEFT(Sheet2!A143,3)&\"************\"&RIGHT(Sheet2!A143,3)","v":"342************137"},"一般困难"]
["王伟杰","城市建设学院","工程管理（专升本）","居民身份证",{"$f":"LEFT(Sheet2!A144,3)&\"************\"&RIGHT(Sheet2!A144,3)","v":"341************353"},"一般困难"]
["张其夫","城市建设学院","工程管理（专升本）","居民身份证",{"$f":"LEFT(Sheet2!A145,3)&\"************\"&RIGHT(Sheet2!A145,3)","v":"341************251"},"一般困难"]
["杨星宇","城市建设学院","工程管理（专升本）","居民身份证",{"$f":"LEFT(Sheet2!A146,3)&\"************\"&RIGHT(Sheet2!A146,3)","v":"342************016"},"一般困难"]
["李雪飞","城市建设学院","工程管理（专升本）","居民身份证",{"$f":"LEFT(Sheet2!A147,3)&\"************\"&RIGHT(Sheet2!A147,3)","v":"341************911"},"一般困难"]
["王玉健","城市建设学院","风景园林（专升本）","居民身份证",{"$f":"LEFT(Sheet2!A148,3)&\"************\"&RIGHT(Sheet2!A148,3)","v":"341************239"},"特别困难"]
["朱睿","城市建设学院","风景园林（专升本）","居民身份证",{"$f":"LEFT(Sheet2!A149,3)&\"************\"&RIGHT(Sheet2!A149,3)","v":"340************219"},"特别困难"]
["王路","城市建设学院","风景园林（专升本）","居民身份证",{"$f":"LEFT(Sheet2!A150,3)&\"************\"&RIGHT(Sheet2!A150,3)","v":"341************321"},"特别困难"]
["陈阳阳","城市建设学院","风景园林（专升本）","居民身份证",{"$f":"LEFT(Sheet2!A151,3)&\"************\"&RIGHT(Sheet2!A151,3)","v":"341************623"},"困难"]
["夏圆静","城市建设学院","风景园林（专升本）","居民身份证",{"$f":"LEFT(Sheet2!A152,3)&\"************\"&RIGHT(Sheet2!A152,3)","v":"341************168"},"困难"]
["张晴晴","城市建设学院","风景园林（专升本）","居民身份证",{"$f":"LEFT(Sheet2!A153,3)&\"************\"&RIGHT(Sheet2!A153,3)","v":"341************2X "},"一般困难"]
["关然然","城市建设学院","风景园林（专升本）","居民身份证",{"$f":"LEFT(Sheet2!A154,3)&\"************\"&RIGHT(Sheet2!A154,3)","v":"341************948"},"一般困难"]
["李如月","城市建设学院","风景园林（专升本）","居民身份证",{"$f":"LEFT(Sheet2!A155,3)&\"************\"&RIGHT(Sheet2!A155,3)","v":"341************22X"},"一般困难"]
["程羽彤","城市建设学院","土木工程（对口）","居民身份证",{"$f":"LEFT(Sheet2!A156,3)&\"************\"&RIGHT(Sheet2!A156,3)","v":"341************625"},"特别困难"]
["邵文豪","城市建设学院","土木工程（对口）","居民身份证",{"$f":"LEFT(Sheet2!A157,3)&\"************\"&RIGHT(Sheet2!A157,3)","v":"341************412"},"特别困难"]
["裴昌明","城市建设学院","土木工程（对口）","居民身份证",{"$f":"LEFT(Sheet2!A158,3)&\"************\"&RIGHT(Sheet2!A158,3)","v":"341************712"},"特别困难"]
["常富伟","城市建设学院","土木工程（对口）","居民身份证",{"$f":"LEFT(Sheet2!A159,3)&\"************\"&RIGHT(Sheet2!A159,3)","v":"341************718"},"困难"]
["姜家欣","城市建设学院","土木工程（对口）","居民身份证",{"$f":"LEFT(Sheet2!A160,3)&\"************\"&RIGHT(Sheet2!A160,3)","v":"341************824"},"困难"]
["林爽","城市建设学院","土木工程（对口）","居民身份证",{"$f":"LEFT(Sheet2!A161,3)&\"************\"&RIGHT(Sheet2!A161,3)","v":"341************956"},"一般困难"]
["刘邦国","城市建设学院","土木工程（对口）","居民身份证",{"$f":"LEFT(Sheet2!A162,3)&\"************\"&RIGHT(Sheet2!A162,3)","v":"341************317"},"一般困难"]
["姚佳戍","城市建设学院","土木工程（对口）","居民身份证",{"$f":"LEFT(Sheet2!A163,3)&\"************\"&RIGHT(Sheet2!A163,3)","v":"341************215"},"一般困难"]
["姜新宇","城市建设学院","风景园林","居民身份证",{"$f":"LEFT(Sheet2!A164,3)&\"************\"&RIGHT(Sheet2!A164,3)","v":"341************467"},"特别困难"]
["马永慧","城市建设学院","风景园林","居民身份证",{"$f":"LEFT(Sheet2!A165,3)&\"************\"&RIGHT(Sheet2!A165,3)","v":"341************049"},"特别困难"]
["杨雨婷","城市建设学院","风景园林","居民身份证",{"$f":"LEFT(Sheet2!A166,3)&\"************\"&RIGHT(Sheet2!A166,3)","v":"341************285"},"特别困难"]
["高雯静","城市建设学院","风景园林","居民身份证",{"$f":"LEFT(Sheet2!A167,3)&\"************\"&RIGHT(Sheet2!A167,3)","v":"340************434"},"困难"]
["宋曼妮","城市建设学院","风景园林","居民身份证",{"$f":"LEFT(Sheet2!A168,3)&\"************\"&RIGHT(Sheet2!A168,3)","v":"341************427"},"困难"]
["韩梦霞","城市建设学院","风景园林","居民身份证",{"$f":"LEFT(Sheet2!A169,3)&\"************\"&RIGHT(Sheet2!A169,3)","v":"340************420"},"一般困难"]
["段静雅","城市建设学院","风景园林","居民 身份证",{"$f":"LEFT(Sheet2!A170,3)&\"************\"&RIGHT(Sheet2!A170,3)","v":"341************727"},"一般困难"]
["王佳慧","城市建设学院","风景园林","居民身份证",{"$f":"LEFT(Sheet2!A171,3)&\"************\"&RIGHT(Sheet2!A171,3)","v":"340************283"},"一般困难"]
["郝敬欢","城市建设学院","土木工程（专升本）","居民身份证",{"$f":"LEFT(Sheet2!A172,3)&\"************\"&RIGHT(Sheet2!A172,3)","v":"340************994"},"特别困难"]
["汪舒婷","城市建设学院","土木工程（专升本）","居民身份证",{"$f":"LEFT(Sheet2!A173,3)&\"************\"&RIGHT(Sheet2!A173,3)","v":"342************727"},"特别困难"]
["周伟豪","城市建设学院","土木工程（专升本）","居民身份证",{"$f":"LEFT(Sheet2!A174,3)&\"************\"&RIGHT(Sheet2!A174,3)","v":"340************517"},"特别困难"]
["万鑫林","城市建设学院","土木工程（专升本）","居民身份证",{"$f":"LEFT(Sheet2!A175,3)&\"************\"&RIGHT(Sheet2!A175,3)","v":"341************327"},"特别困难"]
["林子豪","城市建设学院","土木工程（专升本）","居民身份证",{"$f":"LEFT(Sheet2!A176,3)&\"************\"&RIGHT(Sheet2!A176,3)","v":"342************41X"},"困难"]
["吴帆","城市建设学院","土木工程（专升本）","居民身份证",{"$f":"LEFT(Sheet2!A177,3)&\"************\"&RIGHT(Sheet2!A177,3)","v":"340************814"},"困难"]
["张远富","城市建设学院","土木工程（专升本）","居民身份证",{"$f":"LEFT(Sheet2!A178,3)&\"************\"&RIGHT(Sheet2!A178,3)","v":"340************617"},"一般困难"]
["潘文晴","城市建设学院","土木工程（专升本）","居民身份证",{"$f":"LEFT(Sheet2!A179,3)&\"************\"&RIGHT(Sheet2!A179,3)","v":"341************68X"},"一般困难"]
["郝浩中","城市建设学院","土木工程（专升本）","居民身份证",{"$f":"LEFT(Sheet2!A180,3)&\"************\"&RIGHT(Sheet2!A180,3)","v":"340************815"},"一般困难"]
["万晨雨","城市建设学院","土木工程（专升本）","居民身份证",{"$f":"LEFT(Sheet2!A181,3)&\"************\"&RIGHT(Sheet2!A181,3)","v":"341************175"},"一般困难"]
["汪文","城市建设学院","工程管理（专升本）","居民身份证",{"$f":"LEFT(Sheet2!A182,3)&\"************\"&RIGHT(Sheet2!A182,3)","v":"622************771"},"特别困难"]
["胡婷婷","城市建设学院","工程管理（专升本）","居民身份证",{"$f":"LEFT(Sheet2!A183,3)&\"************\"&RIGHT(Sheet2!A183,3)","v":"623************878"},"特别困难"]
["范兴宇","城市建设学院","工程管理（专升本）","居民身份证",{"$f":"LEFT(Sheet2!A184,3)&\"************\"&RIGHT(Sheet2!A184,3)","v":"622************575"},"特别困难"]
["汪娟","城市建设学院","工程管理（专升本）","居民身份证",{"$f":"LEFT(Sheet2!A185,3)&\"************\"&RIGHT(Sheet2!A185,3)","v":"622************476"},"困难"]
["马卓","城市建设学院","工程管理（专升本）","居民身份证",{"$f":"LEFT(Sheet2!A186,3)&\"************\"&RIGHT(Sheet2!A186,3)","v":"622************372"},"困难"]
["李艳","城市建设学院","工程管理（专升本）","居民身份证",{"$f":"LEFT(Sheet2!A187,3)&\"************\"&RIGHT(Sheet2!A187,3)","v":"622************377"},"一般困难"]
["闫硕","城市建设学院","工程管理（专升本）","居民身份证",{"$f":"LEFT(Sheet2!A188,3)&\"************\"&RIGHT(Sheet2!A188,3)","v":"622************173"},"一般困难"]
["范晓慧","城市建设学院","工程管理（专升本）","居民身份证",{"$f":"LEFT(Sheet2!A189,3)&\"************\"&RIGHT(Sheet2!A189,3)","v":"622************270"},"一般困难"]
["阿尔艾·叶尔保力","城市建设学院","工程造价（专升本）","居民身份证",{"$f":"LEFT(Sheet2!A190,3)&\"************\"&RIGHT(Sheet2!A190,3)","v":"652************563"},"特别困难"]
["林雨晴","城市建设学院","工程造价（专升本）","居民身份证",{"$f":"LEFT(Sheet2!A191,3)&\"************\"&RIGHT(Sheet2!A191,3)","v":"341************623"},"特别困难"]
["吴乐宝","城市建设学院","工程造价（专升本）","居民身份证",{"$f":"LEFT(Sheet2!A192,3)&\"************\"&RIGHT(Sheet2!A192,3)","v":"341************311"},"特别困难"]
["刘松","城市建设学院","工程造价（专升本）","居民身份证",{"$f":"LEFT(Sheet2!A193,3)&\"************\"&RIGHT(Sheet2!A193,3)","v":"342************351"},"困难"]
["周雪","城市建设学院","工程造价（专升本）","居民身份证",{"$f":"LEFT(Sheet2!A194,3)&\"************\"&RIGHT(Sheet2!A194,3)","v":"341************224"},"一般困难"]
["李文涛","城市建设学院","工程造价（专升本）","居民身份证",{"$f":"LEFT(Sheet2!A195,3)&\"************\"&RIGHT(Sheet2!A195,3)","v":"341************914"},"一般困难"]
["张昕","城市建设学院","工程造价（专升本）","居民身份证",{"$f":"LEFT(Sheet2!A196,3)&\"************\"&RIGHT(Sheet2!A196,3)","v":"341************621"},"一般困难"]
["许志伟","城市建设学院","工程造价（专升本）","居民身份证",{"$f":"LEFT(Sheet2!A197,3)&\"************\"&RIGHT(Sheet2!A197,3)","v":"340************817"},"一般困难"]
["桂志豪","城市建设学院","土木工程（对口）","居民身份证",{"$f":"LEFT(Sheet2!A198,3)&\"************\"&RIGHT(Sheet2!A198,3)","v":"341************235"},"特别困难"]
["王梦琳","城市建设学院","土木工程（对口）","居民身份证",{"$f":"LEFT(Sheet2!A199,3)&\"************\"&RIGHT(Sheet2!A199,3)","v":"341************724"},"特别困难"]
["王顺","城市建设学院","土木工程（对口）","居民身份证",{"$f":"LEFT(Sheet2!A200,3)&\"************\"&RIGHT(Sheet2!A200,3)","v":"341************112"},"特别困难"]
["于文好","城市建设学院","土木工程（对口）","居民身份证",{"$f":"LEFT(Sheet2!A201,3)&\"************\"&RIGHT(Sheet2!A201,3)","v":"341************412"},"特别困难"]
["戴树林","城市建设学院","土木工程（对口）","居民身份证",{"$f":"LEFT(Sheet2!A202,3)&\"************\"&RIGHT(Sheet2!A202,3)","v":"341************630"},"困难"]
["孙国梁","城市建设学院","土木工程（对口）","居民身份证",{"$f":"LEFT(Sheet2!A203,3)&\"************\"&RIGHT(Sheet2!A203,3)","v":"341************459"},"困难"]
["郭英军","城市建设学院","土木工程（对口）","居民身份证",{"$f":"LEFT(Sheet2!A204,3)&\"************\"&RIGHT(Sheet2!A204,3)","v":"522************211"},"一般困难"]
["丁博豪","城市建设学院","土木工程（对口）","居民身份证",{"$f":"LEFT(Sheet2!A205,3)&\"************\"&RIGHT(Sheet2!A205,3)","v":"341************853"},"一般困难"]
["詹志伟","城市建设学院","土木工程（对口）","居民身份证",{"$f":"LEFT(Sheet2!A206,3)&\"************\"&RIGHT(Sheet2!A206,3)","v":"340************013"},"一般困难"]
["梁明凤","城市建设学院","土木工程（对口）","居民身份证",{"$f":"LEFT(Sheet2!A207,3)&\"************\"&RIGHT(Sheet2!A207,3)","v":"341************044"},"一般困难"]
["王智博","城市建设学院","土木工程（对口）","居民身份证",{"$f":"LEFT(Sheet2!A208,3)&\"************\"&RIGHT(Sheet2!A208,3)","v":"341************032"},"特别困难"]
["马佳奇","城市建设学院","土木工程（对口）","居民身份证",{"$f":"LEFT(Sheet2!A209,3)&\"************\"&RIGHT(Sheet2!A209,3)","v":"341************615"},"特别困难"]
["李胜洋","城市建设学院","土木工程（对口）","居民身份证",{"$f":"LEFT(Sheet2!A210,3)&\"************\"&RIGHT(Sheet2!A210,3)","v":"341************414"},"特别困难"]
["王宇","城市建设学院","土木工程（对口）","居民身份证",{"$f":"LEFT(Sheet2!A211,3)&\"************\"&RIGHT(Sheet2!A211,3)","v":"341************315"},"特别困难"]
["潘凤飞","城市建设学院","土木工程（对口）","居民身份证",{"$f":"LEFT(Sheet2!A212,3)&\"************\"&RIGHT(Sheet2!A212,3)","v":"341************010"},"困难"]
["陈敏","城市建设学院","土木工程（对口）","居民身份证",{"$f":"LEFT(Sheet2!A213,3)&\"************\"&RIGHT(Sheet2!A213,3)","v":"341************821"},"困难"]
["任永康","城市建设学院","土木工程（对口）","居民身份证",{"$f":"LEFT(Sheet2!A214,3)&\"************\"&RIGHT(Sheet2!A214,3)","v":"341************43X"},"一般困难"]
["唐晴晴","城市建设学院","土木工程（对口）","居民身份证",{"$f":"LEFT(Sheet2!A215,3)&\"************\"&RIGHT(Sheet2!A215,3)","v":"341************020"},"一般困难"]
["邓皓亮","城市建设学院","土木工程（对口）","居民身份证",{"$f":"LEFT(Sheet2!A216,3)&\"************\"&RIGHT(Sheet2!A216,3)","v":"341************87X"},"一般困难"]
["邢超","城市建设学院","土木工程（对口）","居民身份证",{"$f":"LEFT(Sheet2!A217,3)&\"************\"&RIGHT(Sheet2!A217,3)","v":"341************218"},"一般困难"]
["李紫阳","城市建设学院","土木工程（对口）","居民身份证",{"$f":"LEFT(Sheet2!A218,3)&\"************\"&RIGHT(Sheet2!A218,3)","v":"341************755"},"特别困难"]
["张乐","城市建设学院","土木工程（对口）","居民身份证",{"$f":"LEFT(Sheet2!A219,3)&\"************\"&RIGHT(Sheet2!A219,3)","v":"341************116"},"特别困难"]
["邓安康","城市建设学院","土木工程（对口）","居民身份证",{"$f":"LEFT(Sheet2!A220,3)&\"************\"&RIGHT(Sheet2!A220,3)","v":"341************13X"},"特别困难"]
["朱梦美琪","城市建设学院","土木工程（对口）","居民身份证",{"$f":"LEFT(Sheet2!A221,3)&\"************\"&RIGHT(Sheet2!A221,3)","v":"340************529"},"特别困难"]
["黄晚秋","城市建设学院","土木工程（对口）","居民身份证",{"$f":"LEFT(Sheet2!A222,3)&\"************\"&RIGHT(Sheet2!A222,3)","v":"341************817"},"困难"]
["穆思语","城市建设学院","土木工程（对口）","居民身份证",{"$f":"LEFT(Sheet2!A223,3)&\"************\"&RIGHT(Sheet2!A223,3)","v":"341************024"},"困难"]
["熊麒翔","城市建设学院","土木工程（对口）","居民身份证",{"$f":"LEFT(Sheet2!A224,3)&\"************\"&RIGHT(Sheet2!A224,3)","v":"341************633"},"一般困难"]
["张涛","城市建设学院","土木工程（对口）","居民身份证",{"$f":"LEFT(Sheet2!A225,3)&\"************\"&RIGHT(Sheet2!A225,3)","v":"341************611"},"一般困难"]
["孟继程","城市建设学院","土木工程（对口）","居民身份证",{"$f":"LEFT(Sheet2!A226,3)&\"************\"&RIGHT(Sheet2!A226,3)","v":"341************810"},"一般困难"]
["王雅琴","城市建设学院","土木工程（对口）","居民身份证",{"$f":"LEFT(Sheet2!A227,3)&\"************\"&RIGHT(Sheet2!A227,3)","v":"341************889"},"一般困难"]
["邵一鸣","城市建设学院","土木工程（对口）","居民身份证",{"$f":"LEFT(Sheet2!A228,3)&\"************\"&RIGHT(Sheet2!A228,3)","v":"341************114"},"一般困难"]
[]
[]
[]
[]
["      2.申请理由与本学年家庭经济困难学生认定理由保持一致"]

{"sheet":"Sheet2","index":1,"n_rows":228,"n_cols":1,"rows_kept":228}
[]
["341203200504023114"]
["34122520050501551X"]
["341225200408231552"]
["411624200506060025"]
["34182120040903542X"]
["341221200507107367"]
["341281200311252825"]
["341322200308035630"]
["341622200403226036"]
["340521200311064620"]
["341424200407294724"]
["34152220040327856X"]
["341421200303287109"]
["341221200409020815"]
["340111200310152026"]
["341125200407306502"]
["341125200407243468"]
["341125200401090616"]
["341224200311158233"]
["341323200112101911"]
["341125200312177752"]
["341622200403083514"]
["341802200403284442"]
["341621200312282132"]
["341623200407022627"]
["341323200301180137"]
["341222200306025265"]
["320301200401044025"]
["341423200404143262"]
["340827200310044745"]
["411426200308178200"]
["340621200409192829"]
["341402200411223023"]
["340406200403213428"]
["342425200308206511"]
["34160220050219859X"]
["341225200611103740"]
["410423200407209172"]
["340121200404134614"]
["342422200409085801"]
["341203200308312517"]
["34152220040903817X"]
["340321200407025000"]
["340323200410096945"]
["34032120031005530X"]
["341322200211103641"]
["341622200311253344"]
["341021200211218382"]
["341522200210258175"]
["340828200309046520"]
["340621200403209327"]
["341125200306081105"]
["340322200404284644"]
["342425200407072029"]
["340121200404291329"]
["341126200301087520"]
["341122200402274223"]
["341503200508041922"]
["341321200401226021"]
["220323200603130428"]
["340123200406306216"]
["34032220021231161X"]
["341424200211274123"]
["341622200202253310"]
["340824200506304220"]
["341126200504202517"]
["341623200404046439"]
["341602200510300822"]
["342426200312032813"]
["341821200402011222"]
["341422200405207129"]
["340123200503176847"]
["340621200504235241"]
["341522200404026962"]
["34162220030813052X"]
["341422200403204215"]
["411326200508166938"]
["341282200403032412"]
["341821200410204817"]
["341125200504201833"]
["34130220051104721X"]
["34112520041102847X"]
["341323200312011814"]
["341323200508240715"]
["341203200402162535"]
["341125200409293071"]
["341225200409067934"]
["341323200411030615"]
["341422200505033015"]
["341622200501128253"]
["341622200506012110"]
["341203200505152815"]
["341622200504249210"]
["341125200412230194"]
["341125200502106517"]
["341881200506090814"]
["341623200402263413"]
["341623200506207029"]
["341622200410195610"]
["340321200506154086"]
["34142120070304435X"]
["341521200612274585"]
["340322200601127832"]
["341521200602261414"]
["341722200705301789"]
["41152520070517064X"]
["341622200606254328"]
["341623200706227040"]
["340403200508043833"]
["341524200610191419"]
["34142120070417296X"]
["341124200607034410"]
["341824200405203720"]
["411527200310158083"]
["340321200310200167"]
["340824200302210046"]
["340421200406214227"]
["340502200312040621"]
["340823200405255320"]
["341323200308130749"]
["210123200309251621"]
["130532200410077523"]
["341422200409295322"]
["341623200710186018"]
["341702200605193412"]
["341182200607262257"]
["341522200612015985"]
["341221200606288677"]
["340321200604245635"]
["341821200602253621"]
["340321200512015031"]
["341126200607212523"]
["340322200604248461"]
["342426200706130416"]
["341122200607152625"]
["342425200404067144"]
["34162320031024803X"]
["341282200301260174"]
["340828200404270520"]
["341623200306203787"]
["340421200105105617"]
["342422200410280137"]
["341402200405275353"]
["341221200301148251"]
["342426200408020016"]
["341222200207263911"]
["341225200309150239"]
["340603200502094219"]
["341226200309022321"]
["341421200304074623"]
["341421200402146168"]
["34122520041114752X "]
["341503200503124948"]
["34170220040702022X"]
["341823200401033625"]
["341823200308122412"]
["341323200408230712"]
["341822200310100718"]
["341822200402168824"]
["341323200410210956"]
["341822200401131317"]
["341822200408235215"]
["341221200308145467"]
["341523200604014049"]
["341423200602241285"]
["340621200603204434"]
["341721200603074427"]
["340123200607153420"]
["3412222005120%4727"]
["340621200701083283"]
["3401222200310177994"]
["342425200303235727"]
["340104200208282517"]
["341881200302130327"]
["34252320011220041X"]
["340521200308080814"]
["340621200312055617"]
["34162320001225268X"]
["340824200304161815"]
["341422200307086175"]
["6228480667108399771"]
["6230520400177381878"]
["6228480667108402575"]
["6228480667108402476"]
["6228230669057739372"]
["6228480667108402377"]
["6228480667108400173"]
["6228480667108401270"]
["652328200201271563"]
["341322200206243623"]
["341126200212065311"]
["342423200110225351"]
["341802200302276224"]
["341223200207250914"]
["341122200307075621"]
["340123200206305817"]
["341622200405278235"]
["341323200605140724"]
["341203200606153112"]
["341182200602252412"]
["341622200411125630"]
["341622200511167459"]
["522623200406091211"]
["341622200603156853"]
["340421200702151013"]
["341181200510207044"]
["341136200508282032"]
["341623200412257615"]
["341622200605107414"]
["341622200601121315"]
["341181200502251010"]
["341181200606285821"]
["34120420041103243X"]
["341204200403161020"]
["34162220060315687X"]
["341182200410034218"]
["341323200701090755"]
["341622200701119116"]
["34182220061218913X"]
["340111200702125529"]
["341822200605022817"]
["341125200703200024"]
["341822200706254633"]
["341181200612152611"]
["341622200703157810"]
["341125200607014889"]
["341622200509234114"]